BEGIN:VCALENDAR
VERSION:2.0
PRODID:-//Squarespace Inc/Squarespace 6//v6//EN
BEGIN:VEVENT
UID:5a4dbc610d9297b753232a2b@squarespace.com
DTSTAMP:20180104T054411Z
DTSTART:20180406T210000Z
DTEND:20180407T220000Z
SUMMARY:Competition Round 1
END:VEVENT
END:VCALENDAR
