BEGIN:VCALENDAR
VERSION:2.0
PRODID:-//Squarespace Inc/Squarespace 6//v6//EN
BEGIN:VEVENT
UID:5beaa07c8a922d06f7711dbc@squarespace.com
DTSTAMP:20181113T100415Z
DTSTART:20181127T060000Z
DTEND:20181127T070000Z
SUMMARY:89th Annual General Meeting
GEO:-41.326558;174.780555
LOCATION:The Co-operative Bank - Wellington HQ\, 20 Ballance St\, Wellingto
 n\, 6011\, 20 Ballance Street\, Wellington\, Wellington\, 6011\, New Zeala
 nd
END:VEVENT
END:VCALENDAR
