BEGIN:VCALENDAR
VERSION:2.0
PRODID:-//Squarespace Inc/Squarespace 6//v6//EN
BEGIN:VEVENT
UID:5a2e51dd53450ab787e7120a@squarespace.com
DTSTAMP:20180302T023142Z
DTSTART:20180303T013000Z
DTEND:20180303T030000Z
SUMMARY:Women's Trials #2
GEO:-41.326558;174.780555
LOCATION:National Hockey Stadium - NHS1
END:VEVENT
END:VCALENDAR
