BEGIN:VCALENDAR
VERSION:2.0
PRODID:-//Squarespace Inc/Squarespace 6//v6//EN
BEGIN:VEVENT
UID:5a2cd29eec212d8655c9fbda@squarespace.com
DTSTAMP:20171211T093733Z
DTSTART:20180222T050000Z
DTEND:20180222T063000Z
SUMMARY:Women's Trials #1 
GEO:-41.326558;174.780555
LOCATION:National Hockey Stadium - NHS1
END:VEVENT
END:VCALENDAR
