BEGIN:VCALENDAR
VERSION:2.0
PRODID:-//Squarespace Inc/Squarespace 6//v6//EN
BEGIN:VEVENT
UID:5a4db6fc24a6946c4c397ef6@squarespace.com
DTSTAMP:20180104T051712Z
DTSTART:20180222T063000Z
DTEND:20180222T080000Z
SUMMARY:Men's Trials #1 - Premier 3 & Reserve 1
GEO:-41.326558;174.780555
LOCATION:National Hockey Stadium - NHS1
END:VEVENT
END:VCALENDAR
