BEGIN:VCALENDAR
VERSION:2.0
PRODID:-//Squarespace Inc/Squarespace 6//v6//EN
BEGIN:VEVENT
UID:5a4db908652dea036ca0c325@squarespace.com
DTSTAMP:20180302T023338Z
DTSTART:20180303T030000Z
DTEND:20180303T043000Z
SUMMARY:Men's Trials #2 - Premier 3 & Reserve 1
GEO:-41.326558;174.780555
LOCATION:National Hockey Stadium - NHS1
END:VEVENT
END:VCALENDAR
