BEGIN:VCALENDAR
VERSION:2.0
PRODID:-//Squarespace Inc/Squarespace 6//v6//EN
BEGIN:VEVENT
UID:5a2c5ed29140b7d4919853c6@squarespace.com
DTSTAMP:20171211T094216Z
DTSTART:20180216T053000Z
DTEND:20180216T070000Z
SUMMARY:Men's Trials #1 - Premier 1 & 2
GEO:-41.326558;174.780555
LOCATION:National Hockey Stadium - NHS1
END:VEVENT
END:VCALENDAR
