BEGIN:VCALENDAR
VERSION:2.0
PRODID:-//Squarespace Inc/Squarespace 6//v6//EN
BEGIN:VEVENT
UID:5885676b2994caa61acb61b5@squarespace.com
DTSTAMP:20170123T021731Z
DTSTART:20170304T013000Z
DTEND:20170304T030000Z
SUMMARY:Women's Trials #2
GEO:-41.326558;174.780555
LOCATION:National Hockey Stadium - NHS1
END:VEVENT
END:VCALENDAR
