BEGIN:VCALENDAR
VERSION:2.0
PRODID:-//Squarespace Inc/Squarespace 6//v6//EN
BEGIN:VEVENT
UID:588567ce2e69cf6033ce9124@squarespace.com
DTSTAMP:20170123T022019Z
DTSTART:20170304T030000Z
DTEND:20170304T040000Z
SUMMARY:Premiere 3 & Reserve 2 Men's Trials #2
GEO:-41.326558;174.780555
LOCATION:National Hockey Stadium - NHS1
END:VEVENT
END:VCALENDAR
