BEGIN:VCALENDAR
VERSION:2.0
PRODID:-//Squarespace Inc/Squarespace 6//v6//EN
BEGIN:VEVENT
UID:5885671cdb29d6b295d6d081@squarespace.com
DTSTAMP:20170123T021542Z
DTSTART:20170226T053000Z
DTEND:20170226T070000Z
SUMMARY:Premiere 1 & 2 Mens Trials #2
GEO:-41.326558;174.780555
LOCATION:National Hockey Stadium - NHS2
END:VEVENT
END:VCALENDAR
