BEGIN:VCALENDAR
VERSION:2.0
PRODID:-//Squarespace Inc/Squarespace 6//v6//EN
BEGIN:VEVENT
UID:58856684ebbd1a30e9939c77@squarespace.com
DTSTAMP:20170123T021324Z
DTSTART:20170223T050000Z
DTEND:20170223T063000Z
SUMMARY:Womens Trials #1
GEO:-41.326558;174.780555
LOCATION:National Hockey Stadium - NHS1
END:VEVENT
END:VCALENDAR
