BEGIN:VCALENDAR
VERSION:2.0
PRODID:-//Squarespace Inc/Squarespace 6//v6//EN
BEGIN:VEVENT
UID:588566cee6f2e17ade24cd34@squarespace.com
DTSTAMP:20170123T021427Z
DTSTART:20170223T063000Z
DTEND:20170223T073000Z
SUMMARY:Premiere 3 & Reserve 2 Men's Trials #1
GEO:-41.326558;174.780555
LOCATION:National Hockey Stadium - NHS1
END:VEVENT
END:VCALENDAR
