BEGIN:VCALENDAR
VERSION:2.0
PRODID:-//Squarespace Inc/Squarespace 6//v6//EN
BEGIN:VEVENT
UID:588564ab1e5b6c18655cebf7@squarespace.com
DTSTAMP:20170123T021156Z
DTSTART:20170217T053000Z
DTEND:20170217T070000Z
SUMMARY:Premiere 1 & 2 Mens Trials #1
GEO:-41.326525;174.780481
LOCATION:National Hockey Stadium - NHS1
END:VEVENT
END:VCALENDAR
