BEGIN:VCALENDAR
VERSION:2.0
PRODID:-//Squarespace Inc/Squarespace 6//v6//EN
BEGIN:VEVENT
UID:5885576abebafb5fec276518@squarespace.com
DTSTAMP:20170123T011051Z
DTSTART:20170129T040000Z
DTEND:20170129T053000Z
SUMMARY:"Dust Off" Day
GEO:-41.325971;174.781567
LOCATION:National Hockey Stadium\, 1 Mount Albert Road\, Wellington\, Welli
 ngton\, 6023\, New Zealand
END:VEVENT
END:VCALENDAR
