BEGIN:VCALENDAR
VERSION:2.0
PRODID:-//Squarespace Inc/Squarespace 6//v6//EN
BEGIN:VEVENT
UID:575f203c86db43363ec879a2@squarespace.com
DTSTAMP:20160613T211049Z
DTSTART:20160624T070000Z
DTEND:20160624T100000Z
SUMMARY:Quiz Night
END:VEVENT
END:VCALENDAR
