BEGIN:VCALENDAR
VERSION:2.0
PRODID:-//Squarespace Inc/Squarespace 6//v6//EN
BEGIN:VEVENT
UID:56efae8b20c6474a7cd4f1b4@squarespace.com
DTSTAMP:20160321T082922Z
DTSTART:20160401T200000Z
DTEND:20160402T070000Z
SUMMARY:WHA Opening Day
END:VEVENT
END:VCALENDAR
