BEGIN:VCALENDAR
VERSION:2.0
PRODID:-//Squarespace Inc/Squarespace 6//v6//EN
BEGIN:VEVENT
UID:56ec75f122482eaae2bc2c92@squarespace.com
DTSTAMP:20160321T082955Z
DTSTART:20160408T210000Z
DTEND:20160409T050000Z
SUMMARY:Club Day
END:VEVENT
END:VCALENDAR
