BEGIN:VCALENDAR
VERSION:2.0
PRODID:-//Squarespace Inc/Squarespace 6//v6//EN
BEGIN:VEVENT
UID:56d12ea407eaa0756ae28b11@squarespace.com
DTSTAMP:20160227T051828Z
DTSTART:20160313T040000Z
DTEND:20160313T050000Z
SUMMARY:Premiere 3 and Reserve 2 Men's Trial #2
GEO:-41.326558;174.780555
LOCATION:National Hockey Stadium
END:VEVENT
END:VCALENDAR
