BEGIN:VCALENDAR
VERSION:2.0
PRODID:-//Squarespace Inc/Squarespace 6//v6//EN
BEGIN:VEVENT
UID:566bd4c0a976afcb547f0e02@squarespace.com
DTSTAMP:20151217T073301Z
DTSTART:20160301T060000Z
DTEND:20160301T070000Z
SUMMARY:Women's Trials #2
GEO:-41.326558;174.780555
LOCATION:National Hockey Stadium
END:VEVENT
END:VCALENDAR
