BEGIN:VCALENDAR
VERSION:2.0
PRODID:-//Squarespace Inc/Squarespace 6//v6//EN
BEGIN:VEVENT
UID:566bd3b80e4c116bdc00ee34@squarespace.com
DTSTAMP:20151217T073221Z
DTSTART:20160223T061500Z
DTEND:20160223T070000Z
SUMMARY:Premier 3 & Reserve 2 Men's Trials
GEO:40.720756;-74.000761
LOCATION:National Hockey Stadium
END:VEVENT
END:VCALENDAR
