BEGIN:VCALENDAR
VERSION:2.0
PRODID:-//Squarespace Inc/Squarespace 6//v6//EN
BEGIN:VEVENT
UID:566bd2b74bf118e6b4417932@squarespace.com
DTSTAMP:20151217T073117Z
DTSTART:20160223T053000Z
DTEND:20160223T061500Z
SUMMARY:Women's Trials #1
GEO:-41.326558;174.780555
LOCATION:National Hockey Stadium
END:VEVENT
END:VCALENDAR
