BEGIN:VCALENDAR
VERSION:2.0
PRODID:-//Squarespace Inc/Squarespace 6//v6//EN
BEGIN:VEVENT
UID:566bd156a976afcb547efe12@squarespace.com
DTSTAMP:20151217T073012Z
DTSTART:20160221T033000Z
DTEND:20160221T050000Z
SUMMARY:Premier 1 & 2 Men's Trials # 2
GEO:-41.326558;174.780555
LOCATION:National Hockey Stadium
END:VEVENT
END:VCALENDAR
