BEGIN:VCALENDAR
VERSION:2.0
PRODID:-//Squarespace Inc/Squarespace 6//v6//EN
BEGIN:VEVENT
UID:566bce63841abafcc8e1a6ed@squarespace.com
DTSTAMP:20151217T030400Z
DTSTART:20160211T060000Z
DTEND:20160211T073000Z
SUMMARY:Premier 1 & 2 Men's Trials #1
GEO:-41.326558;174.780555
LOCATION:National Hockey Stadium
END:VEVENT
END:VCALENDAR
